BEGIN:VCALENDAR
VERSION:2.0
PRODID:-//ChamberMaster//Event Calendar 2.0//EN
METHOD:PUBLISH
X-PUBLISHED-TTL:P3D
REFRESH-INTERVAL:P3D
CALSCALE:GREGORIAN
BEGIN:VEVENT
DTSTART:20260525T170000Z
DTEND:20260525T180000Z
X-MICROSOFT-CDO-ALLDAYEVENT:FALSE
SUMMARY:Hailey Memorial Day Ceremony 2026
DESCRIPTION:Please join us on Monday\, May 25\, 2026\, at 11 am\, as the community comes together to commemorate Memorial Day. We seek to honor not only our veterans and active military personnel\, but also all those who are tirelessly working to keep us safe. We are incredibly grateful for their unwavering commitment and sacrifice.\nLeading up to the ceremony\, on Friday\, May 22nd\, 2026\, we will be setting out flags and carnations to honor over 450 veterans' graves. The Hailey Cemetery will be decorated from dusk Friday May 22nd to dusk Monday May 25th.
X-ALT-DESC;FMTTYPE=text/html:<span style="font-size: 14px\;"><span style="font-family: &quot\;times new roman&quot\;\;">Please join us on&nbsp\;<strong>Monday\, May 25\, 2026\, at 11 am</strong>\, as the community comes together to commemorate Memorial Day. We seek to honor not only our veterans and active military personnel\, but also all those who are tirelessly working to keep us safe. We are incredibly grateful for their unwavering commitment and sacrifice.</span></span>\n<p><span style="font-family: &quot\;times new roman&quot\;\; font-size: 14px\;">Leading up to the ceremony\, on Friday\, May 22nd\, 2026\, we will be setting out flags and carnations to honor over 450 veterans&rsquo\; graves. The Hailey Cemetery will be decorated from dusk Friday May 22nd&nbsp\;to dusk Monday May 25th.</span></p>\n
LOCATION:Hailey Cemetery 511 Maple Hailey\, Idaho 83333
UID:e.736.28894
SEQUENCE:3
DTSTAMP:20260422T183758Z
URL:https://members.haileyidaho.com/events/details/hailey-memorial-day-ceremony-2026-28894
END:VEVENT

END:VCALENDAR
